BEGIN:VCALENDAR
VERSION:2.0
PRODID:-//Pensacola Mardi Gras - ECPv6.6.4.2//NONSGML v1.0//EN
CALSCALE:GREGORIAN
METHOD:PUBLISH
X-WR-CALNAME:Pensacola Mardi Gras
X-ORIGINAL-URL:https://pensacolamardigras.com
X-WR-CALDESC:Events for Pensacola Mardi Gras
REFRESH-INTERVAL;VALUE=DURATION:PT1H
X-Robots-Tag:noindex
X-PUBLISHED-TTL:PT1H
BEGIN:VTIMEZONE
TZID:America/Chicago
BEGIN:DAYLIGHT
TZOFFSETFROM:-0600
TZOFFSETTO:-0500
TZNAME:CDT
DTSTART:20180311T080000
END:DAYLIGHT
BEGIN:STANDARD
TZOFFSETFROM:-0500
TZOFFSETTO:-0600
TZNAME:CST
DTSTART:20181104T070000
END:STANDARD
END:VTIMEZONE
BEGIN:VEVENT
DTSTART;TZID=America/Chicago:20180818T180000
DTEND;TZID=America/Chicago:20180818T220000
DTSTAMP:20260424T113938
CREATED:20180810T174757Z
LAST-MODIFIED:20180810T174834Z
UID:2554-1534615200-1534629600@pensacolamardigras.com
SUMMARY:Navarre Krewe of Jesters Pirate Bash
DESCRIPTION:Tickets are $25 pp or $175 for a table of 8 or 225 for a table of 10 \, food will be provided\, this is a BYOB event \, we will supply all the mixers! Music will be by Steve Hall. There will be door prizes\, costume contest\, fun games and a Silent Auction in which all proceeds go to benefit our Scholarship. If you need Hotel reservations a block of rooms have been set aside across the parking lot at the Days Inn & Suites\, their phone number is 850-939-1761 and ask for Navarre Krewe of Jesters room block for your discount. Need Tickets please call or text LeAnn at 850-382-1143 or Debbie at 850-586-3537 or any Jester member!
URL:https://pensacolamardigras.com/event/2554/
LOCATION:Navarre Conference Center\, 8700 Navarre Parkway\, Navarre\, FL\, 32566\, United States
END:VEVENT
END:VCALENDAR