BEGIN:VCALENDAR
VERSION:2.0
PRODID:-//Pensacola Mardi Gras - ECPv6.6.4.2//NONSGML v1.0//EN
CALSCALE:GREGORIAN
METHOD:PUBLISH
X-ORIGINAL-URL:https://pensacolamardigras.com
X-WR-CALDESC:Events for Pensacola Mardi Gras
REFRESH-INTERVAL;VALUE=DURATION:PT1H
X-Robots-Tag:noindex
X-PUBLISHED-TTL:PT1H
BEGIN:VTIMEZONE
TZID:America/Chicago
BEGIN:DAYLIGHT
TZOFFSETFROM:-0600
TZOFFSETTO:-0500
TZNAME:CDT
DTSTART:20250309T080000
END:DAYLIGHT
BEGIN:STANDARD
TZOFFSETFROM:-0500
TZOFFSETTO:-0600
TZNAME:CST
DTSTART:20251102T070000
END:STANDARD
BEGIN:DAYLIGHT
TZOFFSETFROM:-0600
TZOFFSETTO:-0500
TZNAME:CDT
DTSTART:20260308T080000
END:DAYLIGHT
BEGIN:STANDARD
TZOFFSETFROM:-0500
TZOFFSETTO:-0600
TZNAME:CST
DTSTART:20261101T070000
END:STANDARD
END:VTIMEZONE
BEGIN:VEVENT
DTSTART;TZID=America/Chicago:20251216T080000
DTEND;TZID=America/Chicago:20260131T170000
DTSTAMP:20260421T053206
CREATED:20251114T163044Z
LAST-MODIFIED:20251114T163153Z
UID:7999-1765872000-1769878800@pensacolamardigras.com
SUMMARY:PENSACOLA PARADE PEOPLE KREWE DISCOUNT DAYS
DESCRIPTION:Krewe members are eligible for a10% discount on almost everything at Pensacola Parade People! \nKrewe Discount Days start on Dec 16th and run through the whole month of January. \nWear your Krewe gear to identify yourself as a member if you’re not already in our customer database. \n  \nHours:  \n\n\n\n\n\n\n\n\n\n\nFriday\n10 AM–5:30 PM\n\n\nSaturday\n10 AM–5:30 PM\n\n\nSunday\nClosed\n\n\nMonday\nClosed\n\n\nTuesday\n10 AM–5:30 PM\n\n\nWednesday\n10 AM–5:30 PM\n\n\nThursday\n10 AM–5:30 PM
URL:https://pensacolamardigras.com/event/krewe-discount-days/
LOCATION:Pensacola Parade People\, 331 W. Government Street\, Pensacola\, FL\, 32502\, United States
CATEGORIES:Public
ATTACH;FMTTYPE=image/png:https://pensacolamardigras.com/wp-content/uploads/2019/12/PPP-Disc-Bead.png
ORGANIZER;CN="Pensacola Parade People":MAILTO:info@paradepeople.com
END:VEVENT
BEGIN:VEVENT
DTSTART;TZID=America/Chicago:20260106T173000
DTEND;TZID=America/Chicago:20260106T190000
DTSTAMP:20260421T053206
CREATED:20260105T223549Z
LAST-MODIFIED:20260105T223610Z
UID:8284-1767720600-1767726000@pensacolamardigras.com
SUMMARY:Second Line Tuesdays
DESCRIPTION:Bring the spirit of Mardi Gras to Palafox Street with live brass bands\, costumed Krewes pure downtown energy. Everyone is welcome!\nThis week Second Line is brought to you by Premium Parking with Krewe of Daisy Dukes; Krewe of Cheers; Krewe of Blues and Krewe of Priscus.\nJoin us Tuesday @ 5:30pm\nJanuary 6th
URL:https://pensacolamardigras.com/event/second-line-tuesdays/
LOCATION:Downtown Pensacola\, Palafox and Government Streets\, Pensacola\, FL\, 32501\, United States
CATEGORIES:Public
ORGANIZER;CN="Pensacola Mardi Gras%2C Inc.":MAILTO:pensacolamardigras@gmail.com
END:VEVENT
BEGIN:VEVENT
DTSTART;TZID=America/Chicago:20260113T173000
DTEND;TZID=America/Chicago:20260113T190000
DTSTAMP:20260421T053206
CREATED:20260105T224353Z
LAST-MODIFIED:20260105T224353Z
UID:8293-1768325400-1768330800@pensacolamardigras.com
SUMMARY:Second Line Tuesdays
DESCRIPTION:Bring the spirit of Mardi Gras to Palafox Street with live brass bands\, costumed Krewes pure downtown energy. Everyone is welcome!\nThis week Second Line is brought to you by Premium Parking with Krewe of Seville.\nJoin us Tuesday @ 5:30pm\nJanuary 13th
URL:https://pensacolamardigras.com/event/second-line-tuesdays-2/
LOCATION:Downtown Pensacola\, Palafox and Government Streets\, Pensacola\, FL\, 32501\, United States
CATEGORIES:Public
ORGANIZER;CN="Pensacola Mardi Gras%2C Inc.":MAILTO:pensacolamardigras@gmail.com
END:VEVENT
BEGIN:VEVENT
DTSTART;TZID=America/Chicago:20260120T173000
DTEND;TZID=America/Chicago:20260120T190000
DTSTAMP:20260421T053206
CREATED:20260105T224535Z
LAST-MODIFIED:20260105T224535Z
UID:8295-1768930200-1768935600@pensacolamardigras.com
SUMMARY:Second Line Tuesday
DESCRIPTION:Bring the spirit of Mardi Gras to Palafox Street with live brass bands\, costumed Krewes pure downtown energy. Everyone is welcome!\nThis week Second Line is with Order of Calliope; Krewe of Warriors; Krewe of Wicked Pirates.\nJoin us Tuesday @ 5:30pm\nJanuary 20th
URL:https://pensacolamardigras.com/event/second-line-tuesday-2/
LOCATION:Downtown Pensacola\, Palafox and Government Streets\, Pensacola\, FL\, 32501\, United States
CATEGORIES:Public
ORGANIZER;CN="Pensacola Mardi Gras%2C Inc.":MAILTO:pensacolamardigras@gmail.com
END:VEVENT
BEGIN:VEVENT
DTSTART;TZID=America/Chicago:20260124T140000
DTEND;TZID=America/Chicago:20260124T170000
DTSTAMP:20260421T053206
CREATED:20251128T192555Z
LAST-MODIFIED:20251128T192654Z
UID:8093-1769263200-1769274000@pensacolamardigras.com
SUMMARY:Kids and Kritters Parade
DESCRIPTION:The Kids and Kritters Parade is set for Saturday\, January 24\, 2026 at 2 p.m. in the Casino Beach parking lot near the Pensacola Beach Visitor Information Center. You can be a spectator or a parade participant. The theme is “Coastal Cowboy” for the Mardi Gras walking parade for people and pets. There is ample\, free parking and spectators are encouraged to attend. Bring a bag to haul your beads and trinkets home. \nThe fun begins at noon when the featured fun guests open their kiosks. Boogie\, Inc. gets the tunes going and hosts Karaoke for Kids from 1 to 1:30 p.m. Get ready to tap your toes at 1:30 p.m. when the talented troupe from Dancingly Yours headlines the pre-parade show. The Kids and Kritters Parade\, starts at 2 p.m. Grand Marshals are Burma Davis and her horse Jesse\, followed by Pensacola Beach’s Krewe of Kids’ Royal Court and krewe members.\nThe parade is open to anyone who would like to participate in this family-friendly event. Registration begins at Noon. To participate\, you must wear a costume\, and bring your own Mardi Gras throws. No candy nor paper coupons\, please. Pets must be on a short\, sturdy leash and under the control of the handler. Everyone must be on their best behavior. There is no entry fee for people; and pets are just $10 each. \nThere will be prizes for the best costumed pets and the best mini-floats.\nMini floats can be made on strollers or wagons. Anything that can be pushed or pulled is allowed. Motorized and pedaled vehicles\, skateboards\, bicycles\, battery powered vehicles are not allowed.\nThe parade is hosted by Pensacola Beach Mardi Gras\, Inc. and sponsored by Gulf Breeze Animal Hospital with the help of Island Times. A special thank you to the Santa Rosa Island Authority and the Pensacola Beach Chamber for their support. \nAdditional details can be found at www.PensacolaBeachMardiGras.com. Questions may be directed to KandKparade@gmail.com.
URL:https://pensacolamardigras.com/event/kids-and-kritters-parade-4/
LOCATION:Casino Beach\, 41 Fort Pickens Road\, Pensacola Beach\, FL\, 32561\, United States
CATEGORIES:Family,Krewe Event,Public
END:VEVENT
BEGIN:VEVENT
DTSTART;TZID=America/Chicago:20260127T173000
DTEND;TZID=America/Chicago:20260127T190000
DTSTAMP:20260421T053206
CREATED:20260105T224711Z
LAST-MODIFIED:20260105T224711Z
UID:8297-1769535000-1769540400@pensacolamardigras.com
SUMMARY:Second Line Tuesday
DESCRIPTION:Bring the spirit of Mardi Gras to Palafox Street with live brass bands\, costumed Krewes pure downtown energy. Everyone is welcome!\nThis week Second Line is with Krewe of Pensacola Belles; Krewe of Hip Huggers; Krewe of Andres De Pez; and Krewe of Warriors\nJoin us Tuesday @ 5:30pm\nJanuary 27th
URL:https://pensacolamardigras.com/event/second-line-tuesday-3/
LOCATION:Downtown Pensacola\, Palafox and Government Streets\, Pensacola\, FL\, 32501\, United States
CATEGORIES:Public
ORGANIZER;CN="Pensacola Mardi Gras%2C Inc.":MAILTO:pensacolamardigras@gmail.com
END:VEVENT
BEGIN:VEVENT
DTSTART;TZID=America/Chicago:20260131T070000
DTEND;TZID=America/Chicago:20260131T230000
DTSTAMP:20260421T053206
CREATED:20251218T232920Z
LAST-MODIFIED:20251218T233104Z
UID:8207-1769842800-1769900400@pensacolamardigras.com
SUMMARY:"Fire and Ice" Navarre Krewe of Jesters Mardi Gras and Coronation Ball
DESCRIPTION:This event is open to the public and all proceeds go to fund our 40th annual Mardi Gras Parade and our Navarre High School Scholarship. There will be tickets at the door for sale. Dinner Included\, B.Y.O.B / Setups Furnished. Live Entertainment by – Class X Band\, Silent Auction\, $45.00 pp in advance $50 at the door. or a table of 6 for $250.00 Formal Attire. For Tickets contact Bill Crouch 850-791-3886\, Charlene 850-382-2841 or LeAnn 850-380-1143. \n$45 in advance $50 at the door or a table of 6 for $250.
URL:https://pensacolamardigras.com/event/navarre-krewe-of-jesters-mardi-gras-and-coronation-ball/
LOCATION:St. Sylvester’s Catholic Church\, 6464 Gulf Breeze Parkway\, Gulf Breeze\, Fl\, 32563
CATEGORIES:Adult,Food,Krewe Event,Public
END:VEVENT
BEGIN:VEVENT
DTSTART;TZID=America/Chicago:20260131T080000
DTEND;TZID=America/Chicago:20260131T170000
DTSTAMP:20260421T053206
CREATED:20251118T154111Z
LAST-MODIFIED:20251118T154120Z
UID:8010-1769846400-1769878800@pensacolamardigras.com
SUMMARY:Pensacola Ice Flyers Mardi Gras Night
DESCRIPTION:  \n \nJoin the Pensacola Ice Flyers and Pensacola Mardi Gras for the Annual Mardi Gras Night! Mardi Gras Game Jerseys\, parade on ice! \nTICKETS FOUND HERE
URL:https://pensacolamardigras.com/event/pensacola-ice-flyers-mardi-gras-night-2/
LOCATION:Pensacola Bay Center\, 201 E. Gregory St.\, pensacola\, 32502\, United States
CATEGORIES:Adult,Family,Public
END:VEVENT
END:VCALENDAR