BEGIN:VCALENDAR
VERSION:2.0
PRODID:-//Pensacola Mardi Gras - ECPv6.6.4.2//NONSGML v1.0//EN
CALSCALE:GREGORIAN
METHOD:PUBLISH
X-WR-CALNAME:Pensacola Mardi Gras
X-ORIGINAL-URL:https://pensacolamardigras.com
X-WR-CALDESC:Events for Pensacola Mardi Gras
REFRESH-INTERVAL;VALUE=DURATION:PT1H
X-Robots-Tag:noindex
X-PUBLISHED-TTL:PT1H
BEGIN:VTIMEZONE
TZID:America/Chicago
BEGIN:DAYLIGHT
TZOFFSETFROM:-0600
TZOFFSETTO:-0500
TZNAME:CDT
DTSTART:20230312T080000
END:DAYLIGHT
BEGIN:STANDARD
TZOFFSETFROM:-0500
TZOFFSETTO:-0600
TZNAME:CST
DTSTART:20231105T070000
END:STANDARD
END:VTIMEZONE
BEGIN:VEVENT
DTSTART;TZID=America/Chicago:20230210T103000
DTEND;TZID=America/Chicago:20230210T133000
DTSTAMP:20260425T092550
CREATED:20230828T221857Z
LAST-MODIFIED:20230828T221917Z
UID:6235-1676025000-1676035800@pensacolamardigras.com
SUMMARY:Krewe of Avant Garde – Pre-Mardi Gras Parade King Cake Party
DESCRIPTION:
URL:https://pensacolamardigras.com/event/krewe-of-avant-garde-pre-mardi-gras-parade-king-cake-party/
LOCATION:St Joseph Catholic Church – Parish Hall
END:VEVENT
BEGIN:VEVENT
DTSTART;TZID=America/Chicago:20230210T190000
DTEND;TZID=America/Chicago:20230210T220000
DTSTAMP:20260425T092550
CREATED:20221227T210530Z
LAST-MODIFIED:20221227T210530Z
UID:6011-1676055600-1676066400@pensacolamardigras.com
SUMMARY:Krewe of Cheers Mardi Gras Bingo
DESCRIPTION:Feb 10\, 2023 from 7pm to 10pm @ Coastal Brewing Company \nAll krewes are invited to a great night of bingo with a mardi gras twist!\n$10.00 for 10 games \, raffle prizes during the night 50/50 raffle and the krewe that bring the most members to play will get a donation to the charity of their choice that night!
URL:https://pensacolamardigras.com/event/krewe-of-cheers-mardi-gras-bingo-2/
LOCATION:Coastal County Brewing Company\, 3041 East Olive Rd.\, Pensacola\, FL\, 32514\, United States
END:VEVENT
END:VCALENDAR