BEGIN:VCALENDAR
VERSION:2.0
PRODID:-//Pensacola Mardi Gras - ECPv6.6.4.2//NONSGML v1.0//EN
CALSCALE:GREGORIAN
METHOD:PUBLISH
X-ORIGINAL-URL:https://pensacolamardigras.com
X-WR-CALDESC:Events for Pensacola Mardi Gras
REFRESH-INTERVAL;VALUE=DURATION:PT1H
X-Robots-Tag:noindex
X-PUBLISHED-TTL:PT1H
BEGIN:VTIMEZONE
TZID:America/Chicago
BEGIN:DAYLIGHT
TZOFFSETFROM:-0600
TZOFFSETTO:-0500
TZNAME:CDT
DTSTART:20230312T080000
END:DAYLIGHT
BEGIN:STANDARD
TZOFFSETFROM:-0500
TZOFFSETTO:-0600
TZNAME:CST
DTSTART:20231105T070000
END:STANDARD
END:VTIMEZONE
BEGIN:VEVENT
DTSTART;TZID=America/Chicago:20230121T180000
DTEND;TZID=America/Chicago:20230121T230000
DTSTAMP:20260425T060145
CREATED:20221004T193736Z
LAST-MODIFIED:20221107T210159Z
UID:5666-1674324000-1674342000@pensacolamardigras.com
SUMMARY:Mystic Order of Revelry 2023 Mardi Gras Masquerade Ball
DESCRIPTION:OPEN TO THE PUBLIC \nThe Revelers of Mystic Order of Revelry will host their inaugural Carnival Mardi Gras Masquerade Ball on Saturday January 21\,2023 at Saint Anne’s Catholic Family Center in Pensacola. \nThe doors will open at 6PM for Masquerade Cocktail (Wear a Mardi Gras Mask) and then the presentation of their Royal Count and Coronation of Monarchs will begin around 6:30. Following the coronation\, grab your Mardi Gras umbrella and follow in behind the Royal Procession in a traditional 2nd Line Procession. Following the 2nd line\, the full dinner buffet will open and the stage will be turned over to our band\, Horseshoe Kitty. Come enjoy a great band\, delicious food and open bar including top shelf spirits\, beer and wine. Tickets are $75 single or $150 a couple. Limited tables of 8 are also available for $600. Tickets will go on sale October 1\, 2022 and remain open until the day of the event.
URL:https://pensacolamardigras.com/event/mystic-order-of-revelry-2023-mardi-gras-masquerade-ball/
LOCATION:Saint Anns Catholic Church
END:VEVENT
BEGIN:VEVENT
DTSTART;TZID=America/Chicago:20230121T183000
DTEND;TZID=America/Chicago:20230121T230000
DTSTAMP:20260425T060145
CREATED:20221230T161205Z
LAST-MODIFIED:20221230T161404Z
UID:6020-1674325800-1674342000@pensacolamardigras.com
SUMMARY:Pirates of Lost Treasure; Meant For Each Other Ball
DESCRIPTION:Jan 21st\, 2023 \nMuseum of Commerce (201 Zaragoza St. Pensacola\, FL\, 32502) \nFrom 6:30pm to 11pm \nCatering By: The Cutting Board Cash Bar \nEntertainment: Wicked Jones \nPlease reach out to our Ball Chair Vickie Powers at (850)426-5404 with any questions you may have
URL:https://pensacolamardigras.com/event/pirates-of-lost-treasure-meant-for-each-other-ball/
LOCATION:Museum of Commerce\, 201 E. Zaragoza St\, Pensacola\, FL\, 32502\, United States
END:VEVENT
END:VCALENDAR