BEGIN:VCALENDAR
VERSION:2.0
PRODID:-//Pensacola Mardi Gras - ECPv6.6.4.2//NONSGML v1.0//EN
CALSCALE:GREGORIAN
METHOD:PUBLISH
X-WR-CALNAME:Pensacola Mardi Gras
X-ORIGINAL-URL:https://pensacolamardigras.com
X-WR-CALDESC:Events for Pensacola Mardi Gras
REFRESH-INTERVAL;VALUE=DURATION:PT1H
X-Robots-Tag:noindex
X-PUBLISHED-TTL:PT1H
BEGIN:VTIMEZONE
TZID:America/Chicago
BEGIN:DAYLIGHT
TZOFFSETFROM:-0600
TZOFFSETTO:-0500
TZNAME:CDT
DTSTART:20220313T080000
END:DAYLIGHT
BEGIN:STANDARD
TZOFFSETFROM:-0500
TZOFFSETTO:-0600
TZNAME:CST
DTSTART:20221106T070000
END:STANDARD
END:VTIMEZONE
BEGIN:VEVENT
DTSTART;VALUE=DATE:20221231
DTEND;VALUE=DATE:20230101
DTSTAMP:20260423T093334
CREATED:20220928T190226Z
LAST-MODIFIED:20220928T190226Z
UID:5607-1672444800-1672531199@pensacolamardigras.com
SUMMARY:New Year's Eve
DESCRIPTION:
URL:https://pensacolamardigras.com/event/new-years-eve-3/
LOCATION:FL
END:VEVENT
BEGIN:VEVENT
DTSTART;TZID=America/Chicago:20221231T160000
DTEND;TZID=America/Chicago:20221231T233000
DTSTAMP:20260423T093334
CREATED:20220928T190919Z
LAST-MODIFIED:20220928T190919Z
UID:5612-1672502400-1672529400@pensacolamardigras.com
SUMMARY:Fiesta Bowl
DESCRIPTION:
URL:https://pensacolamardigras.com/event/fiesta-bowl/
LOCATION:FL
END:VEVENT
BEGIN:VEVENT
DTSTART;TZID=America/Chicago:20221231T160000
DTEND;TZID=America/Chicago:20221231T233000
DTSTAMP:20260423T093334
CREATED:20220928T191031Z
LAST-MODIFIED:20220928T191031Z
UID:5614-1672502400-1672529400@pensacolamardigras.com
SUMMARY:Peach Bowl
DESCRIPTION:
URL:https://pensacolamardigras.com/event/peach-bowl/
LOCATION:FL
END:VEVENT
BEGIN:VEVENT
DTSTART;TZID=America/Chicago:20221231T193000
DTEND;TZID=America/Chicago:20221231T233000
DTSTAMP:20260423T093334
CREATED:20220928T195424Z
LAST-MODIFIED:20220928T195424Z
UID:5643-1672515000-1672529400@pensacolamardigras.com
SUMMARY:NCAA Bowl Playoff Semifinals
DESCRIPTION:
URL:https://pensacolamardigras.com/event/ncaa-bowl-playoff-semifinals/
LOCATION:FL
END:VEVENT
BEGIN:VEVENT
DTSTART;TZID=America/Chicago:20221231T200000
DTEND;TZID=America/Chicago:20221231T233000
DTSTAMP:20260423T093334
CREATED:20221102T215731Z
LAST-MODIFIED:20221102T215731Z
UID:5784-1672516800-1672529400@pensacolamardigras.com
SUMMARY:Krewe of Gatsby Girls Annual Speakeasy New Years Charity Ball
DESCRIPTION:Ring in 2023 with the Krewe of Gatsby Girls and support THE HONOR H.E.R. FOUNDATION FOR WOMEN VETERANS. \nThere really is no party like a Gatsby Girls’ Party! COME DANCE THE NIGHT AWAY AT pENSACOLA’S MOST PREMIER NEW YEAR’S EVE EVENT. Come have a roaring good time with us & Party Like It’s 1922! \nThis event emphasizes the fundamental goals of the Gatsby Girls organization—Charity Promotion and Fund Raising. Not only will our efforts create a special evening for those of you in our community\, but we will also be donating a portion of our proceeds to THE HONOR H.E.R. FOUNDATION FOR WOMEN VETERANS\nPlease visit:https://www.honorher.org/ to learn more about this wonderful CHARITY
URL:https://pensacolamardigras.com/event/krewe-of-gatsby-girls-annual-speakeasy-new-years-charity-ball/
LOCATION:Hilton Pensacola Beach\, 12 via de luna dr\, gulf breeze\, FL\, 32561\, United States
END:VEVENT
END:VCALENDAR