BEGIN:VCALENDAR
VERSION:2.0
PRODID:-//Pensacola Mardi Gras - ECPv6.6.4.2//NONSGML v1.0//EN
CALSCALE:GREGORIAN
METHOD:PUBLISH
X-WR-CALNAME:Pensacola Mardi Gras
X-ORIGINAL-URL:https://pensacolamardigras.com
X-WR-CALDESC:Events for Pensacola Mardi Gras
REFRESH-INTERVAL;VALUE=DURATION:PT1H
X-Robots-Tag:noindex
X-PUBLISHED-TTL:PT1H
BEGIN:VTIMEZONE
TZID:America/Chicago
BEGIN:DAYLIGHT
TZOFFSETFROM:-0600
TZOFFSETTO:-0500
TZNAME:CDT
DTSTART:20180311T080000
END:DAYLIGHT
BEGIN:STANDARD
TZOFFSETFROM:-0500
TZOFFSETTO:-0600
TZNAME:CST
DTSTART:20181104T070000
END:STANDARD
END:VTIMEZONE
BEGIN:VEVENT
DTSTART;VALUE=DATE:20181107
DTEND;VALUE=DATE:20181111
DTSTAMP:20260424T192519
CREATED:20180907T195057Z
LAST-MODIFIED:20180907T195057Z
UID:2603-1541631600-1541890799@pensacolamardigras.com
SUMMARY:Blue Angel Air Show
DESCRIPTION:November 8 – 10th
URL:https://pensacolamardigras.com/event/blue-angel-air-show/
LOCATION:NAS Pensacola\, 190 Radford Blvd\, Pensacola\, FL\, 32508\, United States
CATEGORIES:Adult,Family,Food
END:VEVENT
END:VCALENDAR